BEGIN:VCALENDAR
VERSION:2.0
PRODID:-//European Karate Federation - ECPv6.4.0.1//NONSGML v1.0//EN
CALSCALE:GREGORIAN
METHOD:PUBLISH
X-WR-CALNAME:European Karate Federation
X-ORIGINAL-URL:https://2022.europeankaratefederation.net
X-WR-CALDESC:Events for European Karate Federation
REFRESH-INTERVAL;VALUE=DURATION:PT1H
X-Robots-Tag:noindex
X-PUBLISHED-TTL:PT1H
BEGIN:VTIMEZONE
TZID:UTC
BEGIN:STANDARD
TZOFFSETFROM:+0000
TZOFFSETTO:+0000
TZNAME:UTC
DTSTART:20210101T000000
END:STANDARD
END:VTIMEZONE
BEGIN:VEVENT
DTSTART;VALUE=DATE:20220617
DTEND;VALUE=DATE:20220620
DTSTAMP:20260422T140256
CREATED:20220405T150942Z
LAST-MODIFIED:20220427T121252Z
UID:7873-1655424000-1655683199@2022.europeankaratefederation.net
SUMMARY:2022 EKF Cadet\, Junior & U21 Championships\, Prague\, Czech Republic
DESCRIPTION:Prague (Czech Republic) hosts the 2022 EKF Cadet\, Junior & U21 Championships. The most promising karatekas in the continent gather in one of the most anticipated events of the season. \nThe Czech Republic go back to hosting major events with the 2022 underage continental Championships. \nThe previous edition was held in Tampere (Finland). Over 1000 competitors from 45 countries participated in the event.
URL:https://2022.europeankaratefederation.net/event/2022-ekf-cadet-junior-u21-championships-prague-czech-republic/
ATTACH;FMTTYPE=image/jpeg:https://2022.europeankaratefederation.net/wp-content/uploads/2022/04/evento-praga.jpeg
END:VEVENT
BEGIN:VEVENT
DTSTART;VALUE=DATE:20220603
DTEND;VALUE=DATE:20220606
DTSTAMP:20260422T140256
CREATED:20220427T121820Z
LAST-MODIFIED:20220427T121820Z
UID:7996-1654214400-1654473599@2022.europeankaratefederation.net
SUMMARY:Balkan Children Championships. Bosnia and Herzegovina.
DESCRIPTION:Categories: U12\, U14 /kumite-kata
URL:https://2022.europeankaratefederation.net/event/balkan-children-championships-bosnia-and-herzegovina/
END:VEVENT
BEGIN:VEVENT
DTSTART;VALUE=DATE:20220525
DTEND;VALUE=DATE:20220530
DTSTAMP:20260422T140256
CREATED:20220405T153539Z
LAST-MODIFIED:20220427T121201Z
UID:7882-1653436800-1653868799@2022.europeankaratefederation.net
SUMMARY:2022 EKF Senior Championships\, Gaziantep
DESCRIPTION:Official Bulletin \nAthletes per category \nAthletes per NFs \nAll the info of the event
URL:https://2022.europeankaratefederation.net/event/2022-ekf-senior-championships-gaziantep/
ATTACH;FMTTYPE=image/jpeg:https://2022.europeankaratefederation.net/wp-content/uploads/2022/04/evento-gaziantep.jpeg
END:VEVENT
BEGIN:VEVENT
DTSTART;VALUE=DATE:20220514
DTEND;VALUE=DATE:20220516
DTSTAMP:20260422T140256
CREATED:20220427T121024Z
LAST-MODIFIED:20220427T121552Z
UID:7993-1652486400-1652659199@2022.europeankaratefederation.net
SUMMARY:Kyiv Open. Kyiv (Ukraine).
DESCRIPTION:Categories: Cadets\, Juniors\, U21\,Seniors /kumite-kata Para karate /kata
URL:https://2022.europeankaratefederation.net/event/kyiv-open-kyiv-ukraine/
END:VEVENT
BEGIN:VEVENT
DTSTART;VALUE=DATE:20220507
DTEND;VALUE=DATE:20220509
DTSTAMP:20260422T140256
CREATED:20220427T120912Z
LAST-MODIFIED:20220427T121418Z
UID:7991-1651881600-1652054399@2022.europeankaratefederation.net
SUMMARY:Danube Cup. Beocin (Serbia).
DESCRIPTION:Categories: Cadets\, Juniors\, U21\,Seniors /kumite-kata
URL:https://2022.europeankaratefederation.net/event/danube-cup-beocin-serbia/
END:VEVENT
BEGIN:VEVENT
DTSTART;VALUE=DATE:20210924
DTEND;VALUE=DATE:20210927
DTSTAMP:20260422T140256
CREATED:20220405T152840Z
LAST-MODIFIED:20220427T121445Z
UID:7879-1632441600-1632700799@2022.europeankaratefederation.net
SUMMARY:2021 Small States of Europe Karate Championships\, Montenegro
DESCRIPTION:
URL:https://2022.europeankaratefederation.net/event/2021-small-states-of-europe-karate-championships-montenegro/
ATTACH;FMTTYPE=image/jpeg:https://2022.europeankaratefederation.net/wp-content/uploads/2022/04/eventokaratechampionship.jpeg
END:VEVENT
END:VCALENDAR