BEGIN:VCALENDAR
VERSION:2.0
PRODID:-//European Karate Federation - ECPv6.4.0.1//NONSGML v1.0//EN
CALSCALE:GREGORIAN
METHOD:PUBLISH
X-ORIGINAL-URL:https://2022.europeankaratefederation.net
X-WR-CALDESC:Events for European Karate Federation
REFRESH-INTERVAL;VALUE=DURATION:PT1H
X-Robots-Tag:noindex
X-PUBLISHED-TTL:PT1H
BEGIN:VTIMEZONE
TZID:UTC
BEGIN:STANDARD
TZOFFSETFROM:+0000
TZOFFSETTO:+0000
TZNAME:UTC
DTSTART:20220101T000000
END:STANDARD
END:VTIMEZONE
BEGIN:VEVENT
DTSTART;VALUE=DATE:20220917
DTEND;VALUE=DATE:20220919
DTSTAMP:20260422T164449
CREATED:20220427T122211Z
LAST-MODIFIED:20220427T122211Z
UID:8002-1663372800-1663545599@2022.europeankaratefederation.net
SUMMARY:Budapest Open. Budapest (Hungary).
DESCRIPTION:Categories: Cadets\, Juniors\, U21\,Seniors /kumite-kata Para karate /kata
URL:https://2022.europeankaratefederation.net/event/budapest-open-budapest-hungary/
END:VEVENT
BEGIN:VEVENT
DTSTART;VALUE=DATE:20220923
DTEND;VALUE=DATE:20220926
DTSTAMP:20260422T164449
CREATED:20220427T122318Z
LAST-MODIFIED:20220427T122318Z
UID:8004-1663891200-1664150399@2022.europeankaratefederation.net
SUMMARY:8th SSEKF Championships Small states of EKF. Vaduz (Liechtenstein).
DESCRIPTION:Categories: Cadets\, Juniors\, U21\,Seniors /kumite-kata Para karate/kata
URL:https://2022.europeankaratefederation.net/event/8th-ssekf-championships-small-states-of-ekf-vaduz-liechtenstein/
END:VEVENT
BEGIN:VEVENT
DTSTART;VALUE=DATE:20221001
DTEND;VALUE=DATE:20221003
DTSTAMP:20260422T164449
CREATED:20220427T122420Z
LAST-MODIFIED:20220427T122420Z
UID:8006-1664582400-1664755199@2022.europeankaratefederation.net
SUMMARY:Polish Open. Bielsko-Biala (Poland).
DESCRIPTION:Categories: Cadets\, Juniors\, U21\,Seniors /kumite-kata Para karate / kata
URL:https://2022.europeankaratefederation.net/event/polish-open-bielsko-biala-poland/
END:VEVENT
BEGIN:VEVENT
DTSTART;VALUE=DATE:20221014
DTEND;VALUE=DATE:20221016
DTSTAMP:20260422T164449
CREATED:20220427T122503Z
LAST-MODIFIED:20220427T122503Z
UID:8008-1665705600-1665878399@2022.europeankaratefederation.net
SUMMARY:Kharkiv Open. Kharkiv (Ukraine).
DESCRIPTION:Categories: Cadets\, Juniors\, U21\,Seniors /kumite-kata Para karate / kata
URL:https://2022.europeankaratefederation.net/event/kharkiv-open-kharkiv-ukraine/
END:VEVENT
BEGIN:VEVENT
DTSTART;VALUE=DATE:20221104
DTEND;VALUE=DATE:20221107
DTSTAMP:20260422T164449
CREATED:20220427T122618Z
LAST-MODIFIED:20220427T122618Z
UID:8010-1667520000-1667779199@2022.europeankaratefederation.net
SUMMARY:Balkan Championships for Cadets\, Juniors & U21. Montenegro.
DESCRIPTION:Categories: Cadets\, Juniors\, U21 / kumite-kata
URL:https://2022.europeankaratefederation.net/event/balkan-championships-for-cadets-juniors-u21-montenegro/
END:VEVENT
BEGIN:VEVENT
DTSTART;VALUE=DATE:20221106
DTEND;VALUE=DATE:20221107
DTSTAMP:20260422T164449
CREATED:20220427T122724Z
LAST-MODIFIED:20220427T122724Z
UID:8012-1667692800-1667779199@2022.europeankaratefederation.net
SUMMARY:XIII Open International of San Marino. Serravalle (San Marino).
DESCRIPTION:Categories: Cadets\, Juniors\, U21\,Seniors /kumite-kata Para karate / kata
URL:https://2022.europeankaratefederation.net/event/xiii-open-international-of-san-marino-serravalle-san-marino/
END:VEVENT
BEGIN:VEVENT
DTSTART;VALUE=DATE:20221112
DTEND;VALUE=DATE:20221114
DTSTAMP:20260422T164449
CREATED:20220427T122832Z
LAST-MODIFIED:20220427T122832Z
UID:8014-1668211200-1668383999@2022.europeankaratefederation.net
SUMMARY:Hungarian Grand Prix. Budapest (Hungary).
DESCRIPTION:Categories: Cadets\, Juniors /kumite-kata Para karate / kata
URL:https://2022.europeankaratefederation.net/event/hungarian-grand-prix-budapest-hungary/
END:VEVENT
BEGIN:VEVENT
DTSTART;VALUE=DATE:20221126
DTEND;VALUE=DATE:20221127
DTSTAMP:20260422T164449
CREATED:20220427T122926Z
LAST-MODIFIED:20220427T122926Z
UID:8016-1669420800-1669507199@2022.europeankaratefederation.net
SUMMARY:Nordic Championships. Riga (Latvia).
DESCRIPTION:Categories: Cadets\, Juniors\, U21\, Seniors /kumite-kata Para karate / kata
URL:https://2022.europeankaratefederation.net/event/nordic-championships-riga-latvia/
END:VEVENT
BEGIN:VEVENT
DTSTART;VALUE=DATE:20221205
DTEND;VALUE=DATE:20221207
DTSTAMP:20260422T164449
CREATED:20220427T123020Z
LAST-MODIFIED:20220427T123020Z
UID:8018-1670198400-1670371199@2022.europeankaratefederation.net
SUMMARY:Latvian Open. Riga (Latvia).
DESCRIPTION:Categories: Cadets\, Juniors\, U21\, Seniors /kumite-kata Para karate / kata
URL:https://2022.europeankaratefederation.net/event/latvian-open-riga-latvia/
END:VEVENT
END:VCALENDAR